BEGIN:VCALENDAR
VERSION:2.0
PRODID:-//East Hanney Parish Council//Meeting Calendar//EN
CALSCALE:GREGORIAN
METHOD:PUBLISH
BEGIN:VEVENT
UID:72856-20260311@easthanneyparish.gov.uk
DTSTAMP:20260422T181630Z
DTSTART;VALUE=DATE:20260311
DTEND;VALUE=DATE:20260312
SUMMARY:Council Meeting 11th March 2026
DESCRIPTION:Full Council Meeting\nView details: https://easthanneyparish.gov.uk/meetings/council-meeting-11th-march-2026/
URL:https://easthanneyparish.gov.uk/meetings/council-meeting-11th-march-2026/
END:VEVENT
END:VCALENDAR
