BEGIN:VCALENDAR
VERSION:2.0
PRODID:-//East Hanney Parish Council//Meeting Calendar//EN
CALSCALE:GREGORIAN
METHOD:PUBLISH
BEGIN:VEVENT
UID:72863-20260513@easthanneyparish.gov.uk
DTSTAMP:20260424T085918Z
DTSTART;VALUE=DATE:20260513
DTEND;VALUE=DATE:20260514
SUMMARY:Council Meeting 13th May 2026
DESCRIPTION:Full Council Meeting\nView details: https://easthanneyparish.gov.uk/meetings/council-meeting-13th-may-2026/
URL:https://easthanneyparish.gov.uk/meetings/council-meeting-13th-may-2026/
END:VEVENT
END:VCALENDAR
